BEGIN:VCALENDAR
VERSION:2.0
PRODID:-//wp-events-plugin.com//7.2.2.1//EN
TZID:America/New_York
X-WR-TIMEZONE:America/New_York
BEGIN:VEVENT
UID:5@wilmingtoncommunityarts.org
DTSTART;TZID=America/New_York:20240605T120000
DTEND;TZID=America/New_York:20240605T130000
DTSTAMP:20240517T171125Z
URL:https://wilmingtoncommunityarts.org/events/commemorate-the-80th-annive
 rsary-of-d-day/
SUMMARY:Commemorate the 80th Anniversary of D-Day!
DESCRIPTION:
END:VEVENT
BEGIN:VTIMEZONE
TZID:America/New_York
X-LIC-LOCATION:America/New_York
BEGIN:DAYLIGHT
DTSTART:20240310T030000
TZOFFSETFROM:-0500
TZOFFSETTO:-0400
TZNAME:EDT
END:DAYLIGHT
END:VTIMEZONE
END:VCALENDAR